BEGIN:VCALENDAR
VERSION:2.0
PRODID:-//Highmoor Parish Council//Meeting Calendar//EN
CALSCALE:GREGORIAN
METHOD:PUBLISH
BEGIN:VEVENT
UID:71545-20250115@highmoorparishcouncil.gov.uk
DTSTAMP:20260423T082815Z
DTSTART;VALUE=DATE:20250115
DTEND;VALUE=DATE:20250116
SUMMARY:Council Meeting &#8211\\;  15 January 2025
DESCRIPTION:Full Council Meeting\nView details: https://highmoorparishcouncil.gov.uk/meetings/council-meeting-15-january-2025/
URL:https://highmoorparishcouncil.gov.uk/meetings/council-meeting-15-january-2025/
END:VEVENT
END:VCALENDAR
